BEGIN:VCALENDAR
VERSION:2.0
PRODID:-//Victoria Riskin - ECPv5.0.3.1//NONSGML v1.0//EN
CALSCALE:GREGORIAN
METHOD:PUBLISH
X-WR-CALNAME:Victoria Riskin
X-ORIGINAL-URL:https://www.victoriariskin.com
X-WR-CALDESC:Events for Victoria Riskin
BEGIN:VTIMEZONE
TZID:UTC
BEGIN:STANDARD
TZOFFSETFROM:+0000
TZOFFSETTO:+0000
TZNAME:UTC
DTSTART:20190101T000000
END:STANDARD
END:VTIMEZONE
BEGIN:VEVENT
DTSTART;VALUE=DATE:20190305
DTEND;VALUE=DATE:20190306
DTSTAMP:20260419T131943
CREATED:20190205T231539Z
LAST-MODIFIED:20190218T182257Z
UID:1968-1551744000-1551830399@www.victoriariskin.com
SUMMARY:Writers Guild Foundation hosted at SAG-AFTRA Screening Room
DESCRIPTION:Reception and book signing with Victoria Riskin followed by conversation with Howard Rodman\, former president of the Writers Guild of America. \n
URL:https://www.victoriariskin.com/index.php/event/writers-guild-foundation/
LOCATION:SAG-AFTRA Foundation Screening Room\, 5757 Wilshire Boulevard\, Los Angeles\, CA\, 90036\, United States
END:VEVENT
END:VCALENDAR